BEGIN:VCALENDAR
VERSION:2.0
PRODID:-//Tukios.com/
BEGIN:VEVENT
UID:50798c55-ee43-43fa-ba71-555df96b8f68@www.bedellpizzo.com
DTSTAMP:20260420T225247Z
DTSTART:20260424T190000Z
DTEND:20260425T000000Z
SUMMARY:Visitation
DESCRIPTION:
URL:https://www.bedellpizzo.com/obituaries/brenda-obyrne
LOCATION: 7447 Amboy Rd  Staten Island NY 10307
GEO:40.5099095;-74.244848
END:VEVENT
END:VCALENDAR