BEGIN:VCALENDAR
VERSION:2.0
PRODID:-//Tukios.com/
BEGIN:VEVENT
UID:c344d8d3-fd52-4e8d-9924-2ffcdbf5041a@www.bedellpizzo.com
DTSTAMP:20260420T225604Z
DTSTART:20260425T140000Z
DTEND:20260425T150000Z
SUMMARY:Mass of Christian Burial
DESCRIPTION:
URL:https://www.bedellpizzo.com/obituaries/brenda-obyrne
LOCATION: 5371 Amboy Rd  Staten Island NY 10312
GEO:40.533815;-74.1892934
END:VEVENT
END:VCALENDAR