BEGIN:VCALENDAR
VERSION:2.0
PRODID:-//Tukios.com/
BEGIN:VEVENT
UID:cf5fa872-711d-4f95-a5f3-93bfc3ec0161@www.bedellpizzo.com
DTSTAMP:20260420T225043Z
DTSTART:20260425
SUMMARY:Entombment following Funeral Service
DESCRIPTION:
URL:https://www.bedellpizzo.com/obituaries/brenda-obyrne
LOCATION: 361 Sharrott Ave  Staten Island NY 10309
GEO:40.5141349;-74.2138284
END:VEVENT
END:VCALENDAR