BEGIN:VCALENDAR
VERSION:2.0
PRODID:-//Tukios.com/
BEGIN:VEVENT
UID:c1d60728-d6a4-42ba-b5ed-a099caeab737@www.bedellpizzo.com
DTSTAMP:20260420T224623Z
DTSTART:20260422T180000Z
DTEND:20260422T200000Z
SUMMARY:Visitation
DESCRIPTION:
URL:https://www.bedellpizzo.com/obituaries/john-hudson-dilgen
LOCATION: 7447 Amboy Rd  Staten Island NY 10307
GEO:40.5099095;-74.244848
END:VEVENT
END:VCALENDAR