BEGIN:VCALENDAR
VERSION:2.0
PRODID:-//Tukios.com/
BEGIN:VEVENT
UID:399a5553-3198-42b8-a53b-f276af0d4697@www.bedellpizzo.com
DTSTAMP:20260420T225437Z
DTSTART:20260422T230000Z
DTEND:20260423T010000Z
SUMMARY:Visitation
DESCRIPTION:
URL:https://www.bedellpizzo.com/obituaries/john-hudson-dilgen
LOCATION: 7447 Amboy Rd  Staten Island NY 10307
GEO:40.5099095;-74.244848
END:VEVENT
END:VCALENDAR