BEGIN:VCALENDAR
VERSION:2.0
PRODID:-//Tukios.com/
BEGIN:VEVENT
UID:3f0e2284-69e1-45ed-a362-bb237b200cca@www.bedellpizzo.com
DTSTAMP:20260420T225113Z
DTSTART:20260423T150000Z
DTEND:20260423T160000Z
SUMMARY:Visitation
DESCRIPTION:
URL:https://www.bedellpizzo.com/obituaries/john-hudson-dilgen
LOCATION: 7396 Amboy Rd  Staten Island NY 10307
GEO:40.5097933;-74.2433591
END:VEVENT
END:VCALENDAR